BEGIN:VCALENDAR
VERSION:2.0
PRODID:-//ATBike - ECPv6.3.5//NONSGML v1.0//EN
CALSCALE:GREGORIAN
METHOD:PUBLISH
X-WR-CALNAME:ATBike
X-ORIGINAL-URL:https://atbike.be/nl/
X-WR-CALDESC:Events for ATBike
REFRESH-INTERVAL;VALUE=DURATION:PT1H
X-Robots-Tag:noindex
X-PUBLISHED-TTL:PT1H
BEGIN:VTIMEZONE
TZID:Europe/Brussels
BEGIN:DAYLIGHT
TZOFFSETFROM:+0100
TZOFFSETTO:+0200
TZNAME:CEST
DTSTART:20220327T010000
END:DAYLIGHT
BEGIN:STANDARD
TZOFFSETFROM:+0200
TZOFFSETTO:+0100
TZNAME:CET
DTSTART:20221030T010000
END:STANDARD
BEGIN:DAYLIGHT
TZOFFSETFROM:+0100
TZOFFSETTO:+0200
TZNAME:CEST
DTSTART:20230326T010000
END:DAYLIGHT
BEGIN:STANDARD
TZOFFSETFROM:+0200
TZOFFSETTO:+0100
TZNAME:CET
DTSTART:20231029T010000
END:STANDARD
BEGIN:DAYLIGHT
TZOFFSETFROM:+0100
TZOFFSETTO:+0200
TZNAME:CEST
DTSTART:20240331T010000
END:DAYLIGHT
BEGIN:STANDARD
TZOFFSETFROM:+0200
TZOFFSETTO:+0100
TZNAME:CET
DTSTART:20241027T010000
END:STANDARD
BEGIN:DAYLIGHT
TZOFFSETFROM:+0100
TZOFFSETTO:+0200
TZNAME:CEST
DTSTART:20250330T010000
END:DAYLIGHT
BEGIN:STANDARD
TZOFFSETFROM:+0200
TZOFFSETTO:+0100
TZNAME:CET
DTSTART:20251026T010000
END:STANDARD
END:VTIMEZONE
BEGIN:VEVENT
DTSTART;VALUE=DATE:20231009
DTEND;VALUE=DATE:20241009
DTSTAMP:20260421T150003
CREATED:20170825T210424Z
LAST-MODIFIED:20170825T210424Z
UID:989047-1696816800-1728352799@atbike.be
SUMMARY:Vakantie- & seizoenstours
DESCRIPTION:
URL:https://atbike.be/nl/classes/vakantie-seizoenstours-2/
LOCATION:Fisherman’s Wharf\, 425 Jefferson str.\, San Francisco\, CA\, 94109\, United States
CATEGORIES:Berg,Huren,Reis
ATTACH;FMTTYPE=image/jpeg:https://atbike.be/wp-content/uploads/2017/08/photo-06.jpg
ORGANIZER;CN="Michael &amp%3B Ashley":MAILTO:junk@vamtam.com
END:VEVENT
BEGIN:VEVENT
DTSTART;VALUE=DATE:20231009
DTEND;VALUE=DATE:20241009
DTSTAMP:20260421T150003
CREATED:20170825T210424Z
LAST-MODIFIED:20170825T210424Z
UID:989041-1696816800-1728352799@atbike.be
SUMMARY:Vakantie- & seizoenstours
DESCRIPTION:
URL:https://atbike.be/nl/classes/vakantie-seizoenstours/
LOCATION:Fisherman’s Wharf\, 425 Jefferson str.\, San Francisco\, CA\, 94109\, United States
CATEGORIES:Berg,Huren,Reis
ATTACH;FMTTYPE=image/jpeg:https://atbike.be/wp-content/uploads/2017/08/photo-06.jpg
ORGANIZER;CN="Michael &amp%3B Ashley":MAILTO:junk@vamtam.com
END:VEVENT
BEGIN:VEVENT
DTSTART;VALUE=DATE:20230918
DTEND;VALUE=DATE:20240914
DTSTAMP:20260421T150003
CREATED:20170825T211213Z
LAST-MODIFIED:20170825T211213Z
UID:989049-1695002400-1726192799@atbike.be
SUMMARY:Klim naar de hoogste top
DESCRIPTION:
URL:https://atbike.be/nl/classes/klim-naar-de-hoogste-top/
LOCATION:Fisherman’s Wharf\, 425 Jefferson str.\, San Francisco\, CA\, 94109\, United States
CATEGORIES:Berg,Stad,Toren
ATTACH;FMTTYPE=image/jpeg:https://atbike.be/wp-content/uploads/2017/08/photo-28.jpg
ORGANIZER;CN="Michael":MAILTO:junk@vamtam.com
END:VEVENT
BEGIN:VEVENT
DTSTART;VALUE=DATE:20230918
DTEND;VALUE=DATE:20240914
DTSTAMP:20260421T150003
CREATED:20170825T211213Z
LAST-MODIFIED:20170825T211213Z
UID:989068-1695002400-1726192799@atbike.be
SUMMARY:Klim naar de hoogste top
DESCRIPTION:
URL:https://atbike.be/nl/classes/klim-naar-de-hoogste-top-2/
LOCATION:Fisherman’s Wharf\, 425 Jefferson str.\, San Francisco\, CA\, 94109\, United States
CATEGORIES:Berg,Stad,Toren
ATTACH;FMTTYPE=image/jpeg:https://atbike.be/wp-content/uploads/2017/08/photo-28.jpg
ORGANIZER;CN="Michael":MAILTO:junk@vamtam.com
END:VEVENT
BEGIN:VEVENT
DTSTART;VALUE=DATE:20230914
DTEND;VALUE=DATE:20231016
DTSTAMP:20260421T150003
CREATED:20170825T212445Z
LAST-MODIFIED:20170825T212445Z
UID:989042-1694656800-1697335199@atbike.be
SUMMARY:Gezinsvriendelijke tochten
DESCRIPTION:
URL:https://atbike.be/nl/classes/gezinsvriendelijke-tochten/
LOCATION:Fisherman’s Wharf\, 425 Jefferson str.\, San Francisco\, CA\, 94109\, United States
CATEGORIES:Berg,Huren,Park,Reis,Stad,Toren
ATTACH;FMTTYPE=image/jpeg:https://atbike.be/wp-content/uploads/2017/08/photo-07.jpg
ORGANIZER;CN="Michael":MAILTO:junk@vamtam.com
END:VEVENT
BEGIN:VEVENT
DTSTART;VALUE=DATE:20230914
DTEND;VALUE=DATE:20231016
DTSTAMP:20260421T150003
CREATED:20170825T212445Z
LAST-MODIFIED:20170825T212445Z
UID:989076-1694656800-1697335199@atbike.be
SUMMARY:Gezinsvriendelijke tochten
DESCRIPTION:
URL:https://atbike.be/nl/classes/gezinsvriendelijke-tochten-2/
LOCATION:Fisherman’s Wharf\, 425 Jefferson str.\, San Francisco\, CA\, 94109\, United States
CATEGORIES:Berg,Huren,Park,Reis,Stad,Toren
ATTACH;FMTTYPE=image/jpeg:https://atbike.be/wp-content/uploads/2017/08/photo-07.jpg
ORGANIZER;CN="Michael":MAILTO:junk@vamtam.com
END:VEVENT
BEGIN:VEVENT
DTSTART;VALUE=DATE:20230410
DTEND;VALUE=DATE:20240413
DTSTAMP:20260421T150003
CREATED:20170829T205039Z
LAST-MODIFIED:20170829T205039Z
UID:989071-1681092000-1712887199@atbike.be
SUMMARY:Kunstrondleiding in historisch centrum
DESCRIPTION:
URL:https://atbike.be/nl/classes/kunstrondleiding-in-historisch-centrum/
LOCATION:Fisherman’s Wharf\, 425 Jefferson str.\, San Francisco\, CA\, 94109\, United States
CATEGORIES:Berg,Stad
ATTACH;FMTTYPE=image/jpeg:https://atbike.be/wp-content/uploads/2010/03/photo-25.jpg
ORGANIZER;CN="Michael":MAILTO:junk@vamtam.com
END:VEVENT
BEGIN:VEVENT
DTSTART;VALUE=DATE:20230410
DTEND;VALUE=DATE:20240413
DTSTAMP:20260421T150003
CREATED:20170829T205039Z
LAST-MODIFIED:20170829T205039Z
UID:989102-1681092000-1712887199@atbike.be
SUMMARY:Kunstrondleiding in historisch centrum
DESCRIPTION:
URL:https://atbike.be/nl/classes/kunstrondleiding-in-historisch-centrum-2/
LOCATION:Fisherman’s Wharf\, 425 Jefferson str.\, San Francisco\, CA\, 94109\, United States
CATEGORIES:Berg,Stad
ATTACH;FMTTYPE=image/jpeg:https://atbike.be/wp-content/uploads/2010/03/photo-25.jpg
ORGANIZER;CN="Michael":MAILTO:junk@vamtam.com
END:VEVENT
BEGIN:VEVENT
DTSTART;TZID=Europe/Brussels:20220919T100000
DTEND;TZID=Europe/Brussels:20250223T090000
DTSTAMP:20260421T150003
CREATED:20170825T083749Z
LAST-MODIFIED:20170825T083749Z
UID:989048-1663581600-1740301200@atbike.be
SUMMARY:Avontuur in de bergen
DESCRIPTION:
URL:https://atbike.be/nl/classes/avontuur-in-de-bergen/
LOCATION:Fisherman’s Wharf\, 425 Jefferson str.\, San Francisco\, CA\, 94109\, United States
CATEGORIES:Reis,Stad
ATTACH;FMTTYPE=image/jpeg:https://atbike.be/wp-content/uploads/2017/08/photo-27.jpg
ORGANIZER;CN="Michael":MAILTO:junk@vamtam.com
END:VEVENT
BEGIN:VEVENT
DTSTART;TZID=Europe/Brussels:20220919T100000
DTEND;TZID=Europe/Brussels:20250223T090000
DTSTAMP:20260421T150003
CREATED:20170825T083749Z
LAST-MODIFIED:20240305T141238Z
UID:989087-1663581600-1740301200@atbike.be
SUMMARY:Avontuur in de bergen
DESCRIPTION:
URL:https://atbike.be/nl/classes/avontuur-in-de-bergen-2/
LOCATION:Fisherman’s Wharf\, 425 Jefferson str.\, San Francisco\, CA\, 94109\, United States
CATEGORIES:Reis,Stad
ATTACH;FMTTYPE=image/jpeg:https://atbike.be/wp-content/uploads/2017/08/photo-27.jpg
ORGANIZER;CN="Michael":MAILTO:junk@vamtam.com
END:VEVENT
BEGIN:VEVENT
DTSTART;TZID=Europe/Brussels:20220613T100000
DTEND;TZID=Europe/Brussels:20230613T190000
DTSTAMP:20260421T150003
CREATED:20170825T205526Z
LAST-MODIFIED:20170825T205526Z
UID:989040-1655114400-1686682800@atbike.be
SUMMARY:Verken Central Park
DESCRIPTION:
URL:https://atbike.be/nl/classes/verken-central-park/
LOCATION:Fisherman’s Wharf\, 425 Jefferson str.\, San Francisco\, CA\, 94109\, United States
CATEGORIES:Berg,Toren
ATTACH;FMTTYPE=image/jpeg:https://atbike.be/wp-content/uploads/2017/08/photo-01.jpg
ORGANIZER;CN="Michael":MAILTO:junk@vamtam.com
END:VEVENT
BEGIN:VEVENT
DTSTART;TZID=Europe/Brussels:20220613T100000
DTEND;TZID=Europe/Brussels:20230613T190000
DTSTAMP:20260421T150003
CREATED:20170825T205526Z
LAST-MODIFIED:20170825T205526Z
UID:989075-1655114400-1686682800@atbike.be
SUMMARY:Verken Central Park
DESCRIPTION:
URL:https://atbike.be/nl/classes/verken-central-park-2/
LOCATION:Fisherman’s Wharf\, 425 Jefferson str.\, San Francisco\, CA\, 94109\, United States
CATEGORIES:Berg,Toren
ATTACH;FMTTYPE=image/jpeg:https://atbike.be/wp-content/uploads/2017/08/photo-01.jpg
ORGANIZER;CN="Michael":MAILTO:junk@vamtam.com
END:VEVENT
END:VCALENDAR